BEGIN:VCALENDAR
VERSION:2.0
PRODID:-//ChamberMaster//Event Calendar 2.0//EN
METHOD:PUBLISH
X-PUBLISHED-TTL:P3D
REFRESH-INTERVAL:P3D
CALSCALE:GREGORIAN
BEGIN:VEVENT
DTSTART:20230521T003000Z
DTEND:20230521T040000Z
X-MICROSOFT-CDO-ALLDAYEVENT:FALSE
SUMMARY:Calistoga Roatary Club - Lobster Feed
DESCRIPTION:Calistoga Rotary is excited to announce our upcoming Lobster Feed & Live Auction benefiting the local community.
X-ALT-DESC;FMTTYPE=text/html:<span style="color: rgb(32\, 32\, 32)\; font-family: Helvetica\; font-size: 14px\; text-align: center\;">Calistoga Rotary is excited to announce our upcoming Lobster Feed &amp\; Live Auction benefiting the local community.&nbsp\;</span>
LOCATION:Otra Vez Vineyards 2280 Greenwood Avenue\, Calistoga\, CA
UID:e.3622.89
SEQUENCE:3
DTSTAMP:20260423T010144Z
URL:https://chamber.calistogachamber.net/events/details/calistoga-roatary-club-lobster-feed-89
END:VEVENT

END:VCALENDAR
