BEGIN:VCALENDAR
VERSION:2.0
PRODID:-//ChamberMaster//Event Calendar 2.0//EN
METHOD:PUBLISH
X-PUBLISHED-TTL:P3D
REFRESH-INTERVAL:P3D
CALSCALE:GREGORIAN
BEGIN:VEVENT
DTSTART:20260505T170000Z
DTEND:20260505T210000Z
X-MICROSOFT-CDO-ALLDAYEVENT:FALSE
SUMMARY:Cinco de Mayo 2026 at Napa Valley College
DESCRIPTION:Join Napa Valley College in celebrating Cinco de Mayo 2026 at the Library Plaza on Tuesday\, May 5th from 10am-2pm! Come hang out with us\, be in community\, and check out campus clubs\, local resource organizations\, games\, activities\, a food truck\, and more! FREE for all to attend
X-ALT-DESC;FMTTYPE=text/html:Join Napa Valley College in celebrating Cinco de Mayo 2026 at the Library Plaza on Tuesday\, May 5th from 10am-2pm! Come hang out with us\, be in community\, and check out campus clubs\, local resource organizations\, games\, activities\, a food truck\, and more! FREE for all to attend
LOCATION:Napa Valley College McCarthy Library Plaza
UID:e.3622.1460
SEQUENCE:3
DTSTAMP:20260425T234212Z
URL:https://chamber.calistogachamber.net/events/details/cinco-de-mayo-2026-at-napa-valley-college-1460
END:VEVENT

END:VCALENDAR
