BEGIN:VCALENDAR
VERSION:2.0
PRODID:-//ChamberMaster//Event Calendar 2.0//EN
METHOD:PUBLISH
X-PUBLISHED-TTL:P3D
REFRESH-INTERVAL:P3D
CALSCALE:GREGORIAN
BEGIN:VEVENT
DTSTART:20240809T013000Z
DTEND:20240809T033000Z
X-MICROSOFT-CDO-ALLDAYEVENT:FALSE
SUMMARY:Concert - Boys of Summer
DESCRIPTION:Concert - Boys of Summer\n\nWine tastings provided by: Charles Krug Winery & Picayune Cellars\n\nFeatured Non-Profit: Safari West Wildlife Foundation
X-ALT-DESC;FMTTYPE=text/html:Concert - Boys of Summer<br />\n<span style="color: rgb(34\, 34\, 34)\; font-family: Arial\, Helvetica\, sans-serif\; font-size: small\;">Wine tastings provided by: Charles Krug Winery &amp\; Picayune Cellars<br />\nFeatured Non-Profit: Safari West Wildlife Foundation</span>
LOCATION:Pioneer Park - Calistoga
UID:e.3622.393
SEQUENCE:3
DTSTAMP:20260424T085400Z
URL:https://chamber.calistogachamber.net/events/details/concert-boys-of-summer-393
END:VEVENT

END:VCALENDAR
