BEGIN:VCALENDAR
VERSION:2.0
PRODID:-//ChamberMaster//Event Calendar 2.0//EN
METHOD:PUBLISH
X-PUBLISHED-TTL:P3D
REFRESH-INTERVAL:P3D
CALSCALE:GREGORIAN
BEGIN:VEVENT
DTSTART:20240726T013000Z
DTEND:20240726T033000Z
X-MICROSOFT-CDO-ALLDAYEVENT:FALSE
SUMMARY:Concert- Kid Galaga
DESCRIPTION:Concerts in the Park - presents Kid Galaga\n\nWine offerings provided by - Wild Diamond & Barlow Vineyards  \nFeatured Non-Profit: The Sharpsteen Museum
X-ALT-DESC;FMTTYPE=text/html:Concerts in the Park - presents Kid Galaga<br />\nWine offerings provided by -&nbsp\;<span style="color: rgb(34\, 34\, 34)\; font-family: Arial\, Helvetica\, sans-serif\; font-size: small\; background-color: rgb(255\, 255\, 255)\;">Wild Diamond &amp\; Barlow Vineyards&nbsp\;&nbsp\;</span>\n<div><span style="color: rgb(34\, 34\, 34)\; font-family: Arial\, Helvetica\, sans-serif\; font-size: small\; background-color: rgb(255\, 255\, 255)\;">Featured Non-Profit: The&nbsp\;Sharpsteen Museum</span></div>\n
LOCATION:Pioneer Park - Calistoga
UID:e.3622.391
SEQUENCE:3
DTSTAMP:20260424T103906Z
URL:https://chamber.calistogachamber.net/events/details/concert-kid-galaga-391
END:VEVENT

END:VCALENDAR
