BEGIN:VCALENDAR
VERSION:2.0
PRODID:-//ChamberMaster//Event Calendar 2.0//EN
METHOD:PUBLISH
X-PUBLISHED-TTL:P3D
REFRESH-INTERVAL:P3D
CALSCALE:GREGORIAN
BEGIN:VEVENT
DTSTART:20260518T180000Z
DTEND:20260523T030000Z
X-MICROSOFT-CDO-ALLDAYEVENT:FALSE
SUMMARY:Dine & Donate: A Club for the Club at Palisades Eatery
DESCRIPTION:Support local youth with a simple (and delicious) choice at Palisades Eatery in Calistoga from May 18 22. During this special "Club for the Club" promotion\, 10% of all Club Sandwiches sold will be donated to the Boys & Girls Clubs of St. Helena and Calistoga. Just order a Club Sandwich and your meal will help support programs that provide a safe\, supportive place for local kids and teens to learn\, grow\, and thrive. Whether you're a regular or stopping in for the first time\, it's an easy way to give back one sandwich at a time. Thank you for supporting our community.
X-ALT-DESC;FMTTYPE=text/html:Support local youth with a simple (and delicious) choice at Palisades Eatery in Calistoga from May 18&ndash\;22. During this special &ldquo\;Club for the Club&rdquo\; promotion\, 10% of all Club Sandwiches sold will be donated to the Boys &amp\; Girls Clubs of St. Helena and Calistoga. Just order a Club Sandwich and your meal will help support programs that provide a safe\, supportive place for local kids and teens to learn\, grow\, and thrive. Whether you&rsquo\;re a regular or stopping in for the first time\, it&rsquo\;s an easy way to give back&mdash\;one sandwich at a time. Thank you for supporting our community.
LOCATION:Palisades Eatery\, 1414 Lincoln Ave\, Calistoga\, CA 94515
UID:e.3622.1458
SEQUENCE:3
DTSTAMP:20260423T100619Z
URL:https://chamber.calistogachamber.net/events/details/dine-donate-a-club-for-the-club-at-palisades-eatery-1458
END:VEVENT

END:VCALENDAR
