BEGIN:VCALENDAR
VERSION:2.0
PRODID:-//ChamberMaster//Event Calendar 2.0//EN
METHOD:PUBLISH
X-PUBLISHED-TTL:P3D
REFRESH-INTERVAL:P3D
CALSCALE:GREGORIAN
BEGIN:VEVENT
DTSTART;VALUE=DATE:20240901
DTEND;VALUE=DATE:20241001
TRANSP:TRANSPARENT
X-MICROSOFT-CDO-ALLDAYEVENT:TRUE
SUMMARY:Napa Humane’s Pet Photo Contest
DESCRIPTION:Does your pet have what it takes to be on our 2025 calendar cover? Enter Napa Humane's Pet Photo Contest to find out!\n\nSubmit a horizontal photo of your pet be it a bunny\, dog\, or cat and encourage friends and family to vote. Each dollar equals a vote\, directly supporting Napa Humane's programs.\n\nTop vote-getters will be featured on the cover or as Pets of the Month\, with fantastic prizes for both pets and owners. Every entrant receives a free 2025 calendar\, and all pets are featured in the collage pages.\n\nNot into voting pressure? Reserve a special date in the calendar to feature your pet ideal for birthdays or adoption anniversaries.  You can also buy a calendar\, vote for your favorite pet\, or make a donation to support Napa Humane's work.\n\nThe contest runs from September 1 to September 30\, 2024. Every entry and vote helps local companion animals thrive! ??\n\nEnter your pet today!
X-ALT-DESC;FMTTYPE=text/html:Does your pet have what it takes to be on our 2025 calendar cover? Enter <a href="https://www.gogophotocontest.com/napahumane">Napa Humane&rsquo\;s Pet Photo Contest</a> to find out!<br />\nSubmit a horizontal photo of your pet&mdash\;be it a bunny\, dog\, or cat&mdash\;and encourage friends and family to vote. Each dollar equals a vote\, directly supporting Napa Humane&rsquo\;s programs.<br />\nTop vote-getters will be featured on the cover or as Pets of the Month\, with fantastic prizes for both pets and owners. Every entrant receives a free 2025 calendar\, and all pets are featured in the collage pages.<br />\nNot into voting pressure? <a href="https://www.gogophotocontest.com/napahumane/calendarday">Reserve a special date</a> in the calendar to feature your pet&mdash\;ideal for birthdays or adoption anniversaries.&nbsp\; You can also <a href="https://www.gogophotocontest.com/napahumane/purchase">buy a calendar\,</a> <a href="https://www.gogophotocontest.com/napahumane/">vote for your favorite pet</a>\, or <a href="https://napahumane.org/donate/make-a-donation/">make a donation</a> to support Napa Humane&rsquo\;s work.<br />\nThe contest runs from September 1 to September 30\, 2024. Every entry and vote helps local companion animals thrive! <span style="font-family:segoe ui emoji\,sans-serif">??</span><br />\n<strong>Enter your pet today!</strong>
LOCATION:
UID:e.3622.406
SEQUENCE:3
DTSTAMP:20260424T103712Z
URL:https://chamber.calistogachamber.net/events/details/napa-humane-s-pet-photo-contest-406
END:VEVENT

END:VCALENDAR
