BEGIN:VCALENDAR
VERSION:2.0
PRODID:-//ChamberMaster//Event Calendar 2.0//EN
METHOD:PUBLISH
X-PUBLISHED-TTL:P3D
REFRESH-INTERVAL:P3D
CALSCALE:GREGORIAN
BEGIN:VEVENT
DTSTART:20260502T010000Z
DTEND:20260502T043000Z
X-MICROSOFT-CDO-ALLDAYEVENT:FALSE
SUMMARY:“Noche de Baile” at Napa Valley College
DESCRIPTION:Come dance with us in celebration of Cinco de Mayo at Napa Valley College's "Noche de Baile: a live banda night event featuring Grupo Norte o! Join us at the Library Plaza on Friday\, May 1st starting at 6pm. FREE for all to attend. Refreshments and local art will be for sale. Brought to you by NVC's Puente Club and the Office of Student Life.
X-ALT-DESC;FMTTYPE=text/html:Come dance with us in celebration of Cinco de Mayo at Napa Valley College&rsquo\;s &ldquo\;Noche de Baile: a live banda night event featuring Grupo Norte&ntilde\;o! Join us at the Library Plaza on Friday\, May 1st starting at 6pm. FREE for all to attend. Refreshments and local art will be for sale. Brought to you by NVC&rsquo\;s Puente Club and the Office of Student Life.
LOCATION:Napa Valley College McCarthy Library Plaza
UID:e.3622.1459
SEQUENCE:3
DTSTAMP:20260425T234643Z
URL:https://chamber.calistogachamber.net/events/details/noche-de-baile-at-napa-valley-college-1459
END:VEVENT

END:VCALENDAR
